BEGIN:VCALENDAR
VERSION:2.0
PRODID:-//ChamberMaster//Event Calendar 2.0//EN
METHOD:PUBLISH
X-PUBLISHED-TTL:P3D
REFRESH-INTERVAL:P3D
CALSCALE:GREGORIAN
BEGIN:VEVENT
DTSTART:20170915T003000Z
DTEND:20170915T020000Z
X-MICROSOFT-CDO-ALLDAYEVENT:FALSE
SUMMARY:2017 September Mixer
DESCRIPTION:Monthly After Hours Mixer\n\nPatelco Credit Union
X-ALT-DESC;FMTTYPE=text/html:Monthly After Hours Mixer<br />\nPatelco Credit Union
LOCATION:310 Hartz Avenue Danville CA 94526
UID:e.1449.5453
SEQUENCE:3
DTSTAMP:20260424T080030Z
URL:http://business.danvilleareachamber.com/events/details/2017-september-mixer-5453
END:VEVENT

END:VCALENDAR
