BEGIN:VCALENDAR
VERSION:2.0
PRODID:-//ChamberMaster//Event Calendar 2.0//EN
METHOD:PUBLISH
X-PUBLISHED-TTL:P3D
REFRESH-INTERVAL:P3D
CALSCALE:GREGORIAN
BEGIN:VEVENT
DTSTART:20230222T163000Z
DTEND:20230222T173000Z
X-MICROSOFT-CDO-ALLDAYEVENT:FALSE
SUMMARY:East Bay Business Exchange Weekly Meeting
DESCRIPTION:We are a local group of business owners and professionals.  We meet weekly in San Ramon with the goal of helping each other grow our businesses through warm referrals. Members in our group represent different professions (offers different products / services) but frequently sell to the same market. As a result of this common market focus and community referral commitment\, our members help drive business to one another. Membership is limited to one person per profession. Contact us for more information at info@eastbaybusinessexchange.com
X-ALT-DESC;FMTTYPE=text/html:<p>We are a local group of business owners and professionals.&nbsp\; We meet weekly in San Ramon with the goal of helping each other grow our businesses through warm referrals. Members in our group represent different professions (offers different products / services) but frequently sell to the same market. As a result of this common market focus and community referral commitment\, our members help drive business to one another. Membership is limited to one person per profession. Contact us for more information at&nbsp\;<a href="mailto:info@eastbaybusinessexchange.com">info@eastbaybusinessexchange.com</a></p>\n\n<p>&nbsp\;</p>\n
LOCATION:Via Zoom
UID:e.1449.9220
SEQUENCE:3
DTSTAMP:20260422T102836Z
URL:http://business.danvilleareachamber.com/events/details/east-bay-business-exchange-weekly-meeting-02-22-2023-9220
END:VEVENT

END:VCALENDAR
