BEGIN:VCALENDAR
VERSION:2.0
PRODID:-//ChamberMaster//Event Calendar 2.0//EN
METHOD:PUBLISH
X-PUBLISHED-TTL:P3D
REFRESH-INTERVAL:P3D
CALSCALE:GREGORIAN
BEGIN:VEVENT
DTSTART;VALUE=DATE:20260505
DTEND;VALUE=DATE:20260506
TRANSP:TRANSPARENT
X-MICROSOFT-CDO-ALLDAYEVENT:TRUE
SUMMARY:Health & Wellness Alliance
DESCRIPTION:We're excited to invite you to be part of something new at the Danville Area Chamber! The launch of our Health & Wellness Alliance for our Chamber members\, a dedicated affinity group for professionals like you.\n\n \n\nYou're invited to our kickoff meeting:\n\n \n\n  Date: Tuesday\, May 5th\n\n  Time: 8:30 AM   9:30 AM\n\n  Location: Danville Area Chamber Offices\n\n \n\nIf you're in healthcare\, fitness\, nutrition\, mental wellness\, or any related field\, this is a great opportunity to:\n\n	Connect with fellow health & wellness professionals\n	Exchange ideas and resources\n	Explore collaboration opportunities\n	Help shape the mission\, vision\, and direction of this group from the very beginning\n\n This new group is being brought together by Dr. Brad Kobsar\, who brings over 30 years of experience in chiropractic care\, functional medicine\, and clinical nutrition\, with a vision to build a collaborative health and wellness community in the Danville area. We're grateful for his initiative and leadership in creating this space. \n\n \n\nDr. Brad Kobsar's Bio\n\n \n\nWe'd love for you to join us as we build a strong\, supportive network within our Chamber community.
X-ALT-DESC;FMTTYPE=text/html:<span style="font-family:garamond\,serif\;">We&rsquo\;re excited to invite you to be part of something new at the Danville Area Chamber! The launch of our <strong>Health &amp\; Wellness Alliance </strong>for our Chamber members\, a dedicated affinity group for professionals like you.</span><br />\n&nbsp\;<br />\n<strong><span style="font-family:garamond\,serif\;">You&rsquo\;re invited to our kickoff meeting:</span></strong><br />\n&nbsp\;<br />\n<span style="font-family:segoe ui emoji\,sans-serif\;">&#128197\;</span><span style="font-family:garamond\,serif\;"> <strong>Date:</strong> Tuesday\, May 5th</span><br />\n<span style="font-family:segoe ui emoji\,sans-serif\;">&#128344\;</span><span style="font-family:garamond\,serif\;"> <strong>Time:</strong> 8:30 AM &ndash\; 9:30 AM</span><br />\n<span style="font-family:segoe ui emoji\,sans-serif\;">&#128205\;</span><span style="font-family:garamond\,serif\;"> <strong>Location:</strong> Danville Area Chamber Offices</span><br />\n&nbsp\;<br />\n<span style="font-family:garamond\,serif\;">If you&rsquo\;re in healthcare\, fitness\, nutrition\, mental wellness\, or any related field\, this is a great opportunity to:</span>\n<ul>\n	<li><span style="font-family:garamond\,serif\;">Connect with fellow health &amp\; wellness professionals</span></li>\n	<li><span style="font-family:garamond\,serif\;">Exchange ideas and resources</span></li>\n	<li><span style="font-family:garamond\,serif\;">Explore collaboration opportunities</span></li>\n	<li><span style="font-family:garamond\,serif\;">Help shape the mission\, vision\, and direction of this group from the very beginning</span></li>\n</ul>\n&nbsp\;<span style="font-family:garamond\,serif\;">This new group is being brought together by Dr. Brad Kobsar\, who brings over 30 years of experience in chiropractic care\, functional medicine\, and clinical nutrition\, with a vision to build a collaborative health and wellness community in the Danville area. We&rsquo\;re grateful for his initiative and leadership in creating this space.&nbsp\;</span><br />\n&nbsp\;<br />\n<span style="font-family:garamond\,serif\;"><a href="https://drive.google.com/file/d/12Q5B48wxoIZxjDYbwH_gqaOn1pMVrmMc/view?usp=sharing">Dr. Brad Kobsar&rsquo\;s Bio</a></span><br />\n&nbsp\;<br />\n<span style="font-family:garamond\,serif\;">We&rsquo\;d love for you to join us as we build a strong\, supportive network within our Chamber community.</span>
LOCATION:Danville Area Chamber offices 117-E Town and Country Drive Danville\, CA 94526
UID:e.1449.12044
SEQUENCE:3
DTSTAMP:20260422T233409Z
URL:http://business.danvilleareachamber.com/events/details/health-wellness-alliance-12044
END:VEVENT

END:VCALENDAR
