BEGIN:VCALENDAR
VERSION:2.0
PRODID:-//ChamberMaster//Event Calendar 2.0//EN
METHOD:PUBLISH
X-PUBLISHED-TTL:P3D
REFRESH-INTERVAL:P3D
CALSCALE:GREGORIAN
BEGIN:VEVENT
DTSTART:20260522T003000Z
DTEND:20260522T013000Z
X-MICROSOFT-CDO-ALLDAYEVENT:FALSE
SUMMARY:Ribbon Cutting - Cuppa Yo
DESCRIPTION:Celebrate Cuppa Yo Ribbon Cutting!\n\nJoin us as we welcome Cuppa Yo to the Danville community with a sweet ribbon cutting celebration.\n\n\n\n  Date: Thursday\, May 21\n\n  Time: 5:30 PM   6:30 PM\n\n  Location: 730 Camino Ramon\, Suite 190\, Danville\n\nCuppa Yo brings a fun\, family-friendly frozen yogurt experience to town\, offering a wide variety of self-serve flavors and toppings so every guest can create their perfect treat. With a bright\, welcoming atmosphere and something for everyone\, it's the perfect spot to gather\, celebrate\, and enjoy a little something sweet.\n\nAt this special event\, you'll have the chance to:\n Meet the Cuppa Yo team and learn more about their self-serve frozen yogurt experience\n\n Check out their vibrant new space in Danville\n\n Connect with Chamber members\, local leaders\, and community member\n\n Celebrate and support a new business bringing a fun and flavorful addition to our community \nWe look forward to celebrating together and welcoming Cuppa Yo to our thriving business community!\n\nVisit Cuppa Yo Online
X-ALT-DESC;FMTTYPE=text/html:<p data-end="497" data-start="325"><span style="font-size:16px\;">&#127872\; </span><strong data-end="276" data-start="206"><span style="font-size:16px\;">Celebrate Cuppa Yo Ribbon Cutting!</span></strong></p>\n\n<p data-end="271" data-start="170">Join us as we welcome <strong data-end="204" data-start="192">Cuppa Yo</strong> to the Danville community with a sweet ribbon cutting celebration.<br />\n<br />\n&#128197\;&nbsp\;<strong data-end="975" data-start="966">Date:</strong>&nbsp\;Thursday\, May 21<br data-end="995" data-start="992" />\n&#9200\;&nbsp\;<strong data-end="1006" data-start="997">Time:</strong>&nbsp\;5:30 PM &ndash\; 6:30 PM<br data-end="1027" data-start="1024" />\n&#128205\;&nbsp\;<strong data-end="1043" data-start="1030">Location:</strong>&nbsp\;730 Camino Ramon\, Suite 190\, Danville</p>\n\n<p data-end="595" data-start="273">Cuppa Yo brings a fun\, family-friendly frozen yogurt experience to town\, offering a wide variety of self-serve flavors and toppings so every guest can create their perfect treat. With a bright\, welcoming atmosphere and something for everyone\, it&rsquo\;s the perfect spot to gather\, celebrate\, and enjoy a little something sweet.</p>\n\n<p data-end="650" data-start="597"><strong data-end="650" data-start="597">At this special event\, you&rsquo\;ll have the chance to:</strong></p>\n&#127846\;Meet the Cuppa Yo team and learn more about their self-serve frozen yogurt experience<br />\n&#127846\;Check out their vibrant new space in Danville<br />\n&#127846\;Connect with Chamber members\, local leaders\, and community member<br />\n&#127846\;Celebrate and support a new business bringing a fun and flavorful addition to our community&nbsp\;\n<p data-end="1183" data-start="1085">We look forward to celebrating together and welcoming Cuppa Yo to our thriving business community!</p>\n\n<p data-end="633" data-start="270"><strong><a href="https://www.cuppayo.com/danvilleca">Visit Cuppa Yo Online</a></strong></p>\n
LOCATION:Downtown Danville 730 Camino Ramon Suite #190\, Danville\, CA 94526
UID:e.1449.12043
SEQUENCE:3
DTSTAMP:20260422T224327Z
URL:https://business.danvilleareachamber.com/events/details/ribbon-cutting-cuppa-yo-12043
END:VEVENT

END:VCALENDAR
