BEGIN:VCALENDAR
VERSION:2.0
PRODID:-//ChamberMaster//Event Calendar 2.0//EN
METHOD:PUBLISH
X-PUBLISHED-TTL:P3D
REFRESH-INTERVAL:P3D
CALSCALE:GREGORIAN
BEGIN:VEVENT
DTSTART:20260529T003000Z
DTEND:20260529T013000Z
X-MICROSOFT-CDO-ALLDAYEVENT:FALSE
SUMMARY:Ribbon Cutting - East Bay OBGYN
DESCRIPTION:Celebrate East Bay OBGYN's Ribbon Cutting!\n\nJoin us as we welcome East Bay OBGYN to the Danville community with a special ribbon cutting celebration.\n\n\n\n  Date: Thursday\, May 28\n\n  Time: 5:30 PM   6:30 PM\n\n  Location: 1320 El Capitan Dr.\, Suite 450\, Danville\n\nEast Bay OBGYN is redefining women's healthcare with a modern\, patient-centered approach focused on personalized care\, transparency\, and whole-woman wellness at every stage of life. Their practice offers a thoughtful\, comprehensive experience in a comfortable and elevated setting\, supporting women through everything from preventive care to pregnancy and beyond.\n\nAt this special event\, you'll have the chance to:\n Meet the East Bay OBGYN team and learn about their approach to modern women's healthcare\n\n Tour their beautifully designed new office space\n\n Connect with Chamber members\, local leaders\, and community members\n\n Celebrate and support a new business dedicated to women's health and wellness in Danville \n\nWe look forward to celebrating together and welcoming East Bay OBGYN to our thriving business community!\n\n\n\n\n\nVisit East Bay OBGYN Online
X-ALT-DESC;FMTTYPE=text/html:<p data-end="497" data-start="325"><span style="font-size:16px\;">&#127872\; </span><strong data-end="276" data-start="206"><span style="font-size:16px\;">Celebrate East Bay OBGYN&#39\;s Ribbon Cutting!</span></strong></p>\n\n<p data-end="268" data-start="159">Join us as we welcome <strong data-end="199" data-start="181">East Bay OBGYN</strong> to the Danville community with a special ribbon cutting celebration.<br />\n<br />\n&#128197\;&nbsp\;<strong data-end="1017" data-start="1008">Date:</strong>&nbsp\;Thursday\, May 28<br data-end="1037" data-start="1034" />\n&#9200\;&nbsp\;<strong data-end="1048" data-start="1039">Time:</strong>&nbsp\;5:30 PM &ndash\; 6:30 PM<br data-end="1069" data-start="1066" />\n&#128205\;&nbsp\;<strong data-end="1085" data-start="1072">Location:</strong>&nbsp\;1320 El Capitan Dr.\, Suite 450\, Danville</p>\n\n<p data-end="633" data-start="270"><strong>East Bay OBGYN</strong> is redefining women&rsquo\;s healthcare with a modern\, patient-centered approach focused on personalized care\, transparency\, and whole-woman wellness at every stage of life. Their practice offers a thoughtful\, comprehensive experience in a comfortable and elevated setting\, supporting women through everything from preventive care to pregnancy and beyond.</p>\n\n<p data-end="688" data-start="635"><strong data-end="688" data-start="635">At this special event\, you&rsquo\;ll have the chance to:</strong></p>\n<span style="color: rgb(68\, 68\, 68)\; font-family: Arial\, Helvetica\, sans-serif\; font-size: 14px\;">&#10024\;</span>Meet the East Bay OBGYN team and learn about their approach to modern women&rsquo\;s healthcare<br />\n<span style="color: rgb(68\, 68\, 68)\; font-family: Arial\, Helvetica\, sans-serif\; font-size: 14px\;">&#10024\;</span>Tour their beautifully designed new office space<br />\n<span style="color: rgb(68\, 68\, 68)\; font-family: Arial\, Helvetica\, sans-serif\; font-size: 14px\;">&#10024\;</span>Connect with Chamber members\, local leaders\, and community members<br />\n<span style="color: rgb(68\, 68\, 68)\; font-family: Arial\, Helvetica\, sans-serif\; font-size: 14px\;">&#10024\;</span>Celebrate and support a new business dedicated to women&rsquo\;s health and wellness in Danville&nbsp\;\n\n<p data-end="1128" data-start="1005">We look forward to celebrating together and welcoming <strong>East Bay OBGYN</strong> to our thriving business community!<br />\n<br />\n<br />\n<strong><a href="https://www.eastbayobgyn.com/">Visit East Bay OBGYN Online</a></strong></p>\n
LOCATION:Downtown Danville 1320 El Capitan Dr. Suite #450\, Danville\, CA 94526
UID:e.1449.12042
SEQUENCE:3
DTSTAMP:20260422T213856Z
URL:https://business.danvilleareachamber.com/events/details/ribbon-cutting-east-bay-obgyn-12042
END:VEVENT

END:VCALENDAR
